BEGIN:VCALENDAR
PRODID:-//IONAS//RIS//DE
VERSION:2.0
CALSCALE:GREGORIAN
BEGIN:VEVENT
DTSTAMP:20260422T022331Z
DTSTART:20241210T183000
DTEND:20241210T183500
SUMMARY:Sitzung des Rechnungsprüfungsausschusses Pellingen
LOCATION:\, \, null null
DESCRIPTION:Tagesordnungspunkte\n1 Wahl einer(s) Vorsitzenden nebst Stell
 vertreter(in) für die Dauer der Legislaturperiode
UID:ElMhDJ93gOvR3PIO
END:VEVENT
END:VCALENDAR
