BEGIN:VCALENDAR
PRODID:-//IONAS//RIS//DE
VERSION:2.0
CALSCALE:GREGORIAN
BEGIN:VEVENT
DTSTAMP:20260422T091107Z
DTSTART:20160829T160000
DTEND:20160829T235959
SUMMARY:Sitzung des Bauausschusses Pellingen
LOCATION:\, \, null null
DESCRIPTION:Tagesordnungspunkte\n1 Ortsbesichtigungen und Auswertung der 
 Ortsbesichtigungen\n1.1 Besichtigung des Friedhofes\n- Ausweisung eines 
 Grabfeldes für Urnenrasengräber \n- Neuanlage eines Urnengrabfeldes \n- 
 Gestaltungsmaßnahmen auf dem Friedhof\n1.2 Besichtigung des möglichen St
 andortes für den Container der KiTa-Waldgruppe und des neuen Spielplatzg
 eländes der KiTa \"Antoniuszwerge\"\n1.3 Besichtigung der Bergstraße \"U
 nwetterschaden\"\n2 Information über die Fortschreibung des Entwässerung
 skonzeptes \"Unterdorf\"\n3 Berichte und Verschiedenes\n3.1 Pflege der B
 epflanzung entlang der B 268\n3.2 Mäharbeiten am Regenrückhaltebecken im
  Bereich des Bolzplatzes\n3.3 Verkauf des Grundstückes 193 im ersten Bau
 abschnitt des Baugebietes \"Höthkopf\"\n3.4 Mulchen der unbebauten Grund
 stücke des ersten Bauabschnittes \"Höthkopf\"\n3.5 Bau eines Carports in
  der Trierer Straße 1a\n3.6 Energetische Arbeiten am Sportplatzgebäude\n
 3.7 Arbeiten an der Kindertagesstätte\n3.8 Aufstellung von Hundetoilette
 nbeutel-Ständer
UID:eo26Eyq3pkS43Now
END:VEVENT
END:VCALENDAR
